BEGIN:VCALENDAR
VERSION:2.0
PRODID:-//Strong Richmond Hill - ECPv6.15.20//NONSGML v1.0//EN
CALSCALE:GREGORIAN
METHOD:PUBLISH
X-WR-CALNAME:Strong Richmond Hill
X-ORIGINAL-URL:https://strongrh.ca
X-WR-CALDESC:Events for Strong Richmond Hill
REFRESH-INTERVAL;VALUE=DURATION:PT1H
X-Robots-Tag:noindex
X-PUBLISHED-TTL:PT1H
BEGIN:VTIMEZONE
TZID:America/Toronto
BEGIN:DAYLIGHT
TZOFFSETFROM:-0500
TZOFFSETTO:-0400
TZNAME:EDT
DTSTART:20250309T070000
END:DAYLIGHT
BEGIN:STANDARD
TZOFFSETFROM:-0400
TZOFFSETTO:-0500
TZNAME:EST
DTSTART:20251102T060000
END:STANDARD
BEGIN:DAYLIGHT
TZOFFSETFROM:-0500
TZOFFSETTO:-0400
TZNAME:EDT
DTSTART:20260308T070000
END:DAYLIGHT
BEGIN:STANDARD
TZOFFSETFROM:-0400
TZOFFSETTO:-0500
TZNAME:EST
DTSTART:20261101T060000
END:STANDARD
BEGIN:DAYLIGHT
TZOFFSETFROM:-0500
TZOFFSETTO:-0400
TZNAME:EDT
DTSTART:20270314T070000
END:DAYLIGHT
BEGIN:STANDARD
TZOFFSETFROM:-0400
TZOFFSETTO:-0500
TZNAME:EST
DTSTART:20271107T060000
END:STANDARD
END:VTIMEZONE
BEGIN:VEVENT
DTSTART;TZID=America/Toronto:20260111T120000
DTEND;TZID=America/Toronto:20260111T130000
DTSTAMP:20260421T194219
CREATED:20260104T192703Z
LAST-MODIFIED:20260104T192703Z
UID:5001-1768132800-1768136400@strongrh.ca
SUMMARY:LCG Jan '26 Meeting
DESCRIPTION:Join us for our monthly Local Conversation Group meeting. Residents and members are invited to share ideas\, discuss local issues\, and help shape practical solutions to improve life in Richmond Hill. Whether you’re active or just curious\, your voice matters—come be part of the conversation.
URL:https://strongrh.ca/event/lcg-jan-26-meeting/
LOCATION:RHPL Central\, Canada
ATTACH;FMTTYPE=image/png:https://strongrh.ca/wp-content/uploads/2025/11/STRH-simple-Logo.png
END:VEVENT
BEGIN:VEVENT
DTSTART;TZID=America/Toronto:20260208T120000
DTEND;TZID=America/Toronto:20260208T130000
DTSTAMP:20260421T194219
CREATED:20260202T025105Z
LAST-MODIFIED:20260202T025105Z
UID:5116-1770552000-1770555600@strongrh.ca
SUMMARY:STRH Monthly Meeting
DESCRIPTION:
URL:https://strongrh.ca/event/strh-monthly-meeting/
LOCATION:RHPL Central\, Canada
ATTACH;FMTTYPE=image/png:https://strongrh.ca/wp-content/uploads/2026/01/LCG-Monthly-Meeting-Logo-e1768533976201.png
END:VEVENT
BEGIN:VEVENT
DTSTART;TZID=America/Toronto:20260225T190000
DTEND;TZID=America/Toronto:20260225T200000
DTSTAMP:20260421T194219
CREATED:20260201T164046Z
LAST-MODIFIED:20260223T161824Z
UID:5099-1772046000-1772049600@strongrh.ca
SUMMARY:Pints & Places
DESCRIPTION:Strong Towns Richmond Hill members (and friends!) are invited to a laid-back social night at the pub. No agenda\, no presentations—just good conversation\, good company\, and whatever Strong Towns (or non-Strong Towns) topics come up. \nCome have a drink\, talk cities\, housing\, transit\, parking reform… or just catch up with familiar faces. Feel free to bring a friend or two—everyone’s welcome. \n📅 Last Wednesday of February📍 King Henry’s Arms💳 Drinks are pay-your-own🗣️ Conversation is free and encouraged \nWhether you’re deeply into Strong Towns ideas or just Strong-Town-curious\, this is a great chance to connect in a relaxed setting. Pull up a chair and join the chat.
URL:https://strongrh.ca/event/pints-places/
LOCATION:King Henry’s Arms\, 9301 Yonge St Unit 2a\, Richmond Hill\, ON\, L4C 0A8
END:VEVENT
BEGIN:VEVENT
DTSTART;TZID=America/Toronto:20260308T120000
DTEND;TZID=America/Toronto:20260308T130000
DTSTAMP:20260421T194219
CREATED:20260213T024801Z
LAST-MODIFIED:20260213T024801Z
UID:5263-1772971200-1772974800@strongrh.ca
SUMMARY:STRH March 2026 Meeting
DESCRIPTION:
URL:https://strongrh.ca/event/strh-march-2026-meeting/
LOCATION:RHPL Central\, Canada
ATTACH;FMTTYPE=image/png:https://strongrh.ca/wp-content/uploads/2026/01/LCG-Monthly-Meeting-Logo-e1768533976201.png
END:VEVENT
BEGIN:VEVENT
DTSTART;TZID=America/Toronto:20260325T190000
DTEND;TZID=America/Toronto:20260325T200000
DTSTAMP:20260421T194219
CREATED:20260302T030319Z
LAST-MODIFIED:20260302T030319Z
UID:5329-1774465200-1774468800@strongrh.ca
SUMMARY:March Pints & Places
DESCRIPTION:STRH’s March Pints & Places gathering will take place on March 25 at 7pm\,  at King Henry’s Arms. We look forward to seeing you there.
URL:https://strongrh.ca/event/march-pints-places/
LOCATION:King Henry’s Arms\, 9301 Yonge St Unit 2a\, Richmond Hill\, ON\, L4C 0A8
END:VEVENT
END:VCALENDAR